BEGIN:VCALENDAR
VERSION:2.0
PRODID:-//Alberto Airoldi - ECPv6.15.20//NONSGML v1.0//EN
CALSCALE:GREGORIAN
METHOD:PUBLISH
X-ORIGINAL-URL:https://albertoairoldi.net
X-WR-CALDESC:Eventi per Alberto Airoldi
REFRESH-INTERVAL;VALUE=DURATION:PT1H
X-Robots-Tag:noindex
X-PUBLISHED-TTL:PT1H
BEGIN:VTIMEZONE
TZID:Europe/Helsinki
BEGIN:DAYLIGHT
TZOFFSETFROM:+0200
TZOFFSETTO:+0300
TZNAME:EEST
DTSTART:20210328T010000
END:DAYLIGHT
BEGIN:STANDARD
TZOFFSETFROM:+0300
TZOFFSETTO:+0200
TZNAME:EET
DTSTART:20211031T010000
END:STANDARD
BEGIN:DAYLIGHT
TZOFFSETFROM:+0200
TZOFFSETTO:+0300
TZNAME:EEST
DTSTART:20220327T010000
END:DAYLIGHT
BEGIN:STANDARD
TZOFFSETFROM:+0300
TZOFFSETTO:+0200
TZNAME:EET
DTSTART:20221030T010000
END:STANDARD
BEGIN:DAYLIGHT
TZOFFSETFROM:+0200
TZOFFSETTO:+0300
TZNAME:EEST
DTSTART:20230326T010000
END:DAYLIGHT
BEGIN:STANDARD
TZOFFSETFROM:+0300
TZOFFSETTO:+0200
TZNAME:EET
DTSTART:20231029T010000
END:STANDARD
BEGIN:DAYLIGHT
TZOFFSETFROM:+0200
TZOFFSETTO:+0300
TZNAME:EEST
DTSTART:20240331T010000
END:DAYLIGHT
BEGIN:STANDARD
TZOFFSETFROM:+0300
TZOFFSETTO:+0200
TZNAME:EET
DTSTART:20241027T010000
END:STANDARD
BEGIN:DAYLIGHT
TZOFFSETFROM:+0200
TZOFFSETTO:+0300
TZNAME:EEST
DTSTART:20250330T010000
END:DAYLIGHT
BEGIN:STANDARD
TZOFFSETFROM:+0300
TZOFFSETTO:+0200
TZNAME:EET
DTSTART:20251026T010000
END:STANDARD
BEGIN:DAYLIGHT
TZOFFSETFROM:+0200
TZOFFSETTO:+0300
TZNAME:EEST
DTSTART:20260329T010000
END:DAYLIGHT
BEGIN:STANDARD
TZOFFSETFROM:+0300
TZOFFSETTO:+0200
TZNAME:EET
DTSTART:20261025T010000
END:STANDARD
END:VTIMEZONE
BEGIN:VEVENT
DTSTART;TZID=Europe/Helsinki:20251109T180000
DTEND;TZID=Europe/Helsinki:20251109T200000
DTSTAMP:20260424T171650
CREATED:20251028T165503Z
LAST-MODIFIED:20251028T165511Z
UID:423-1762711200-1762718400@albertoairoldi.net
SUMMARY:Presentazione di MISS20 a Mezzé
DESCRIPTION:Cari amici e lettori\, \nsono lieto di invitarvi alla presentazione del mio romanzo MISS20 (Cronache di un mondo di nati ieri)\, che si terrà domenica 9 novembre 2025\, alle ore 18\, presso Mezzé (Via Varanini 9\, Milano). \nSarà con noi Andrea Rizzi\, che introdurrà l’incontro e con la quale dialogherò sul senso\, sulle ragioni e sui temi che animano questo libro. \nVi aspetto!
URL:https://albertoairoldi.net/evento/presentazione-di-miss20-a-mezze/
LOCATION:Mezzè\, Via Varinini 9\, Milano\, Italy
CATEGORIES:Presentazione
ATTACH;FMTTYPE=image/jpeg:https://albertoairoldi.net/wp-content/uploads/2025/10/miss20-mezze.jpg
END:VEVENT
BEGIN:VEVENT
DTSTART;TZID=Europe/Helsinki:20251023T180000
DTEND;TZID=Europe/Helsinki:20251023T200000
DTSTAMP:20260424T171650
CREATED:20251014T111211Z
LAST-MODIFIED:20251014T111254Z
UID:416-1761242400-1761249600@albertoairoldi.net
SUMMARY:Presentazione di MISS20 presso la Libreria Lineadiconfine
DESCRIPTION:Cari amici e lettori\, \nsono lieto di invitarvi all’evento di presentazione del mio romanzo MISS20 (Cronache di un mondo di nati ieri)\, che si terrà giovedì 23 ottobre 2025\, alle ore 18\, presso la Libreria Lineadiconfine (Via Ceriani\, 20). \nSarà con noi Beatrice Marchesini\, che introdurrà l’incontro e con la quale dialogherò sul senso\, sulle ragioni e sui temi che animano questo libro. \nDurante l’incontro\, racconterò il percorso creativo del testo\, le mie ispirazioni\, e ascolterò con piacere le vostre domande\, impressioni e riflessioni. Credo fermamente che ogni libro prenda forma definitiva solo nel rapporto con i suoi lettori. \nVi aspetto!
URL:https://albertoairoldi.net/evento/presentazione-di-miss20-presso-la-libreria-lineadiconfine/
LOCATION:Linea di Confine\, Via Ceriani 20\, Milano\, Italy
CATEGORIES:Presentazione
ATTACH;FMTTYPE=image/jpeg:https://albertoairoldi.net/wp-content/uploads/2025/10/miss20-lineadiconfine.jpg
END:VEVENT
BEGIN:VEVENT
DTSTART;TZID=Europe/Helsinki:20251009T173000
DTEND;TZID=Europe/Helsinki:20251009T190000
DTSTAMP:20260424T171650
CREATED:20251005T153306Z
LAST-MODIFIED:20251007T073559Z
UID:406-1760031000-1760036400@albertoairoldi.net
SUMMARY:Presentazione del mio romanzo “MISS20”
DESCRIPTION:Sono felice di annunciare che giovedì 9 ottobre 2025\, presso l’Associazione Chiamamilano (Via Laghetto 2\, Milano)\, alle ore 17:30\, presenterò il mio romanzo “MISS20 (Cronache da un mondo di nati ieri)”. \nSarà un momento speciale per condividere con i lettori le idee\, le suggestioni e le storie che hanno dato vita a questo libro. \nL’incontro sarà introdotto e moderato da Andrea Cerini\, che ringrazio per l’amicizia e la disponibilità. \n📅 Quando: 9 ottobre 2025\, ore 17:30📍 Dove: Associazione Chiamamilano – Via Laghetto 2\, Milano👤 Con: l’autore Alberto Airoldi🎤 Presenta: Andrea Cerini
URL:https://albertoairoldi.net/evento/presentazione-del-mio-romanzo-miss20/
LOCATION:ChiAmaMilano\, Via Laghetto 2\, Milano\, Italia
CATEGORIES:Presentazione
ATTACH;FMTTYPE=image/jpeg:https://albertoairoldi.net/wp-content/uploads/2025/10/MISS20-CHIAMAMILANO.jpg
END:VEVENT
BEGIN:VEVENT
DTSTART;TZID=Europe/Helsinki:20251004T160000
DTEND;TZID=Europe/Helsinki:20251004T180000
DTSTAMP:20260424T171650
CREATED:20250915T092724Z
LAST-MODIFIED:20250915T093335Z
UID:401-1759593600-1759600800@albertoairoldi.net
SUMMARY:BAGGIO\, SAN SIRO\, PORTA MAGENTA: PRESENTAZIONE A QUINTO ROMANO
DESCRIPTION:Sabato 4 ottobre\, dalle 16\,30\, ci sarà una nuova presentazione del libro: A Milano. Baggio\, San Siro\, Porta Magenta\, che raccoglie contributi di vario tipo sulla Zona 7 di Milano. Ci troveremo a Quinto Romano\, ai margini del Parco delle Cave\, in via Caldera 115.
URL:https://albertoairoldi.net/evento/baggio-san-siro-porta-magenta-presentazione-a-quinto-romano/
LOCATION:via Caldera 115\, via Caldera 115\, Milano\, Milano\, Italy
CATEGORIES:Presentazione
ATTACH;FMTTYPE=image/jpeg:https://albertoairoldi.net/wp-content/uploads/2025/09/547693776_10163919415150680_7446021186714342265_n.jpg
END:VEVENT
BEGIN:VEVENT
DTSTART;TZID=Europe/Helsinki:20250524T183000
DTEND;TZID=Europe/Helsinki:20250524T233000
DTSTAMP:20260424T171650
CREATED:20250521T070707Z
LAST-MODIFIED:20250521T071930Z
UID:380-1748111400-1748129400@albertoairoldi.net
SUMMARY:Festa di scienze politiche in COX
DESCRIPTION:Non si tratta di un come eravamo\, di un remake de Il grande freddo o di un raduno di nostalgici della gioventù perduta o dei bei tempi andati. \nAbbiamo voluto creare un archivio – https://www.inventati.org/apm/fondoscipol/index.php – nella speranza di potere essere utili a chi vorrà in futuro mettere in discussione le università\, il sapere asservito al capitale\, l’ideologia di chi ci comanda. Nel farlo abbiamo rincontrato molte compagne e molti compagni con cui abbiamo condiviso riunioni\, assemblee\, manifestazioni\, discussioni. Un po’ tutti hanno manifestato il desiderio di rivedersi\, e quindi abbiamo deciso di organizzare questa festa\, a cui invitiamo chi occupò Scienze Politiche nel 1990\, a chi simpatizzò\, a chi si era già laureato\, a chi arrivò dopo\, magari molto dopo\, ma cercò di tenere viva una presenza politica in università\, a chi non era di Scienze Politiche\, ma ci frequentava…. \nVerso le 21\,30 suoneranno I Cattivi Maestri: quale nome\, del resto\, poteva essere più adatto? \n \n 
URL:https://albertoairoldi.net/evento/festa-di-scienze-politiche-in-cox/
LOCATION:COX18\, Via Conchetta 18\, Milano\, Italy
CATEGORIES:Presentazione
ATTACH;FMTTYPE=image/jpeg:https://albertoairoldi.net/wp-content/uploads/2025/05/foto-scritta-via-mascagni-scaled.jpg
END:VEVENT
BEGIN:VEVENT
DTSTART;TZID=Europe/Helsinki:20241009T183000
DTEND;TZID=Europe/Helsinki:20241009T200000
DTSTAMP:20260424T171650
CREATED:20240930T160849Z
LAST-MODIFIED:20240930T160849Z
UID:285-1728498600-1728504000@albertoairoldi.net
SUMMARY:Presentazione alla Biblioteca di Baggio
DESCRIPTION:Ci vediamo alla Biblioteca di Baggio per la nuova presentazione de La Torre Azzurra\, il mio secondo romanzo. L’incontro sarà condotto da Enrico Lenzi\, giornalista di Avvenire e collaboratore de Il Diciotto. \nIngresso libero e gratuito! \nScarica la locandina
URL:https://albertoairoldi.net/evento/presentazione-alla-biblioteca-di-baggio/
LOCATION:Biblioteca di Baggio\, Via Pistoia 10\, Milano\, 20253\, Italy
CATEGORIES:Presentazione
ATTACH;FMTTYPE=image/png:https://albertoairoldi.net/wp-content/uploads/2024/04/latorreazzurra.png
END:VEVENT
BEGIN:VEVENT
DTSTART;TZID=Europe/Helsinki:20240604T174500
DTEND;TZID=Europe/Helsinki:20240604T190000
DTSTAMP:20260424T171650
CREATED:20240525T090513Z
LAST-MODIFIED:20240525T090813Z
UID:262-1717523100-1717527600@albertoairoldi.net
SUMMARY:Presentazione del romanzo "La Torre azzurra" con l'autore Alberto Airoldi
DESCRIPTION:Vi aspetto alla presentazione del mio romanzo La Torre Azzurra\, presso la sede dell’Associazione ChiAmaMilano\, in via Laghetto 2\, alle 17:45.
URL:https://albertoairoldi.net/evento/presentazione-del-romanzo-la-torre-azzurra-con-lautore-alberto-airoldi/
LOCATION:ChiAmaMilano\, Via Laghetto 2\, Milano\, Italia
CATEGORIES:Presentazione
ATTACH;FMTTYPE=image/jpeg:https://albertoairoldi.net/wp-content/uploads/2024/05/4giugno.jpeg
END:VEVENT
BEGIN:VEVENT
DTSTART;TZID=Europe/Helsinki:20240516T183000
DTEND;TZID=Europe/Helsinki:20240516T193000
DTSTAMP:20260424T171650
CREATED:20240506T084753Z
LAST-MODIFIED:20240506T085546Z
UID:254-1715884200-1715887800@albertoairoldi.net
SUMMARY:Presentazione de "La Torre Azzurra" alla libreria Les Mots
DESCRIPTION:Vi aspetto giovedì 16 maggio alle ore 18:00 alla presentazione del mio nuovo romanzo La Torre Azzurra. Farò due chiacchiere con Ivan Vaghi. Ci vediamo alla libreria Les Mots in via Carmagnola\, angolo via Pepe\, a Milano. A presto! \n 
URL:https://albertoairoldi.net/evento/presentazione-de-la-torre-azzurra-alla-libreria-les-mots/
LOCATION:Libreria Les Mots\, Via Carmagnola ang. via Pepe\, Milano\, Italia
CATEGORIES:Presentazione
ATTACH;FMTTYPE=image/jpeg:https://albertoairoldi.net/wp-content/uploads/2024/05/Untitled.jpeg
END:VEVENT
BEGIN:VEVENT
DTSTART;VALUE=DATE:20230525
DTEND;VALUE=DATE:20230526
DTSTAMP:20260424T171650
CREATED:20230522T071423Z
LAST-MODIFIED:20230522T071423Z
UID:203-1684972800-1685059199@albertoairoldi.net
SUMMARY:Presentazione dell'archivio della Pantera e del Collettivo di Scienze Politiche - Milano
DESCRIPTION:Il Movimento della Pantera\, avviato dall’occupazione dell’Università di Palermo a fine 1989\, fu per molti un fulmine a ciel sereno. I suoi principali obiettivi erano il ritiro della riforma universitaria presentata dal ministro socialista Ruberti e l’apertura di un dibattito all’interno degli atenei\, quasi assente da almeno un decennio. Il movimento paventava soprattutto l’aziendalizzazione dell’Università e una differenziazione nei fatti fra atenei di serie A e atenei di serie B: una tendenza che non riuscì a fermare\, ma al limite soltanto rallentare\, e che vediamo oggi completamente realizzata. \nL’importanza di quel movimento\, come di altri\, fu quella di sedimentare una coscienza politica e un’esperienza di lotta fra gli studenti\, dopo la lunga traversata degli anni Ottanta. In quasi tutta Italia almeno una facoltà in ogni ateneo venne occupata\, e quasi ovunque si confrontarono una componente più radicale e una più moderata. La prima si espresse\, negli anni successivi soprattutto all’interno dei centri sociali\, ma anche dando vita a esperienze originali di collettivi radicati negli atenei e con una proiezione cittadina (è il caso del Collettivo Politico Universitario di Scienze Politiche a Milano). La seconda venne inizialmente egemonizzata dalla FGCI\, che si sarebbe sciolta poco tempo dopo\, e sopravvisse nel volontariato e in movimenti di impegno civico. \nTrascorsi ormai 33 anni\, la Pantera è rimasto l’ultimo movimento universitario su scala nazionale ad essersi manifestato in Italia\, e le esperienze che da esso ricavarono linfa sono ormai tramontate. Resta la memoria storica\, che insieme ad altri partecipanti all’occupazione del 1990 e all’attività politica universitaria del CPU negli anni seguenti\, ho voluto contribuire a salvaguardare creando un apposito archivio storico ospitato dall’Archivio Primo Moroni. \nhttps://www.inventati.org/apm/ \nIl nostro proposito non è tanto quello di renderci utili agli storici e ai tesisti\, ma di poter fornire un supporto documentario agli studenti universitari che in futuro decideranno che è giunta l’ora di rimettere in discussione l’università italiana\, ricorrendo all’unico metodo di cui possono disporre: occupare gli atenei e aprire la discussione. \nLa presentazione dell’archivio sarà Giovedì 25 maggio in via Conchetta 18.\nSarà possibile seguirla via streaming al seguente indirizzo: http://ice.normail.org:8000/master\nSeguirà aperitivo. \n 
URL:https://albertoairoldi.net/evento/presentazione-dellarchivio-della-pantera-e-del-collettivo-di-scienze-politiche-milano/
LOCATION:Calusca City Lights\, via Conchetta 18\, Milano\, Italia
CATEGORIES:Presentazione
ATTACH;FMTTYPE=image/jpeg:https://albertoairoldi.net/wp-content/uploads/2023/05/FondoSciPol-scaled.jpg
END:VEVENT
BEGIN:VEVENT
DTSTART;TZID=Europe/Helsinki:20221122T183000
DTEND;TZID=Europe/Helsinki:20221122T200000
DTSTAMP:20260424T171650
CREATED:20221103T095135Z
LAST-MODIFIED:20221103T095135Z
UID:165-1669141800-1669147200@albertoairoldi.net
SUMMARY:Presentazione di Sugar Mountain alla libreria Les Mots
DESCRIPTION:Grazie all’ospitalità della libreria Les Mots\, ecco la seconda presentazione di Sugar Mountain. Ci vediamo il 22 Novembre alle 18:30!
URL:https://albertoairoldi.net/evento/presentazione-di-sugar-mountain-alla-libreria-les-mots/
LOCATION:Libreria Les Mots\, Via Carmagnola ang. via Pepe\, Milano\, Italia
CATEGORIES:Presentazione
ATTACH;FMTTYPE=image/png:https://albertoairoldi.net/wp-content/uploads/2022/11/fbe2116c9c1f989a97fbe42c667b8440.anon_.png
END:VEVENT
BEGIN:VEVENT
DTSTART;TZID=Europe/Helsinki:20221117T180000
DTEND;TZID=Europe/Helsinki:20221117T190000
DTSTAMP:20260424T171650
CREATED:20221024T161759Z
LAST-MODIFIED:20221024T165930Z
UID:153-1668708000-1668711600@albertoairoldi.net
SUMMARY:Presentazione di "Sugar Mountain" alla Calusca City Lights
DESCRIPTION:Sono lieto di invitarvi alla prima presentazione di Sugar Mountain\, che si terrà il 17 Novembre presso la libreria Calusca City Lights di Milano. \nSarà per me un piacere incontrarvi e rispondere alle vostre domande. \nA presto!
URL:https://albertoairoldi.net/evento/presentazione-di-sugar-mountain/
LOCATION:Calusca City Lights\, via Conchetta 18\, Milano\, Italia
CATEGORIES:Presentazione
ATTACH;FMTTYPE=image/png:https://albertoairoldi.net/wp-content/uploads/2022/10/59704c4c1e093fa5e093ecc1f7e7e2ae.anon_-1.png
END:VEVENT
END:VCALENDAR